BEGIN:VCALENDAR
VERSION:2.0
PRODID:-//Kulvio Event Calendar//kulvio.de//
CALSCALE:GREGORIAN
METHOD:PUBLISH
BEGIN:VEVENT
SUMMARY:Europafest: Fest der Kulturen
DTSTART:20260531T090000Z
DTEND:20260531T170000Z
DTSTAMP:20260421T042938Z
UID:kulvio-event-2784@kulvio.de
CATEGORIES:Stadtfest,International
CREATED:20260419T160339Z
DESCRIPTION:Das Europafest in Obertshausen bringt die kulturelle Vielfalt 
 der Stadt auf den Vorplatz des Bürgerhauses Hausen. Ab 11 Uhr gibt es Spe
 zialitäten aus zahlreichen Ländern\, ab 13 Uhr Folkloretänze verschiede
 ner Vereine auf der Bühne. Das Fest der Kulturen richtet sich an alle Alt
 ersgruppen und feiert die internationale Gemeinschaft in Obertshausen.
GEO:50.081744;8.859469
LAST-MODIFIED:20260419T160815Z
LOCATION:Bürgerhaus Hausen\, Tempelhofer Straße 10\, 63179\, Obertshause
 n
STATUS:CONFIRMED
URL:https://kulvio.de/event/2784
END:VEVENT
END:VCALENDAR
