BEGIN:VCALENDAR
VERSION:2.0
PRODID:-//Kulvio Event Calendar//kulvio.de//
CALSCALE:GREGORIAN
METHOD:PUBLISH
BEGIN:VEVENT
SUMMARY:Weinfest an der Burg im Hain - Samstag
DTSTART:20260704T150000Z
DTEND:20260704T210000Z
DTSTAMP:20260421T042432Z
UID:kulvio-event-2786@kulvio.de
CATEGORIES:Tasting,Stadtfest
CREATED:20260419T160339Z
DESCRIPTION:Das Weinfest an der Burg im Hain in Obertshausen lädt am Sams
 tag ab 17 Uhr zum Weingenuss ein. Winzer aus sieben deutschen Anbaugebiete
 n präsentieren ihre Weine\, begleitet von kulinarischen Angeboten und Liv
 e-Musik. Das einwöchige Weinfest ist eine der beliebtesten Sommerveransta
 ltungen der Stadt.
GEO:50.068151;8.85406
LAST-MODIFIED:20260420T175729Z
LOCATION:Burg im Hain\, 63179\, Obertshausen
STATUS:CONFIRMED
URL:https://kulvio.de/event/2786
END:VEVENT
END:VCALENDAR
