BEGIN:VCALENDAR
VERSION:2.0
PRODID:-//Kulvio Event Calendar//kulvio.de//
CALSCALE:GREGORIAN
METHOD:PUBLISH
BEGIN:VEVENT
SUMMARY:Weinfest an der Burg im Hain - Sonntag
DTSTART:20260705T150000Z
DTEND:20260705T210000Z
DTSTAMP:20260421T042434Z
UID:kulvio-event-2787@kulvio.de
CATEGORIES:Tasting,Stadtfest
CREATED:20260419T160339Z
DESCRIPTION:Am Sonntag geht das Weinfest an der Burg im Hain in die letzte
  Runde des Wochenendes. Ab 17 Uhr können Besucher Weine aus verschiedenen
  Regionen probieren und den Abend bei Live-Musik ausklingen lassen. Der Ei
 ntritt ist frei.
GEO:50.068151;8.85406
LAST-MODIFIED:20260420T175729Z
LOCATION:Burg im Hain\, 63179\, Obertshausen
STATUS:CONFIRMED
URL:https://kulvio.de/event/2787
END:VEVENT
END:VCALENDAR
