BEGIN:VCALENDAR
VERSION:2.0
PRODID:-//Kulvio Event Calendar//kulvio.de//
CALSCALE:GREGORIAN
METHOD:PUBLISH
BEGIN:VEVENT
SUMMARY:Obertshäuser Martinsmarkt
DTSTART:20261109T110000Z
DTEND:20261109T190000Z
DTSTAMP:20260421T035542Z
UID:kulvio-event-2788@kulvio.de
CATEGORIES:Saisonmarkt
CREATED:20260419T160339Z
DESCRIPTION:Der Obertshäuser Martinsmarkt findet in der Wilhelmstraße un
 d Fünfhäusergasse statt. Von 12 bis 20 Uhr gibt es Kunsthandwerk\, Selbs
 tgemachtes\, Musik und kulinarische Angebote. Der Martinsmarkt rund um den
  Martinstag ist ein traditioneller Herbstmarkt mit Ständen von Vereinen u
 nd Privatanbietern.
GEO:50.071387;8.849297
LAST-MODIFIED:20260420T175952Z
LOCATION:Wilhelmstraße\, 63179\, Obertshausen
STATUS:CONFIRMED
URL:https://kulvio.de/event/2788
END:VEVENT
END:VCALENDAR
