BEGIN:VCALENDAR
VERSION:2.0
PRODID:-//Kulvio Event Calendar//kulvio.de//
CALSCALE:GREGORIAN
METHOD:PUBLISH
BEGIN:VEVENT
SUMMARY:Weihnachtsmarkt Obertshausen - Samstag
DTSTART:20261212T140000Z
DTEND:20261212T200000Z
DTSTAMP:20260421T042426Z
UID:kulvio-event-2789@kulvio.de
CATEGORIES:Weihnachtsmarkt
CREATED:20260419T160339Z
DESCRIPTION:Der Obertshäuser Weihnachtsmarkt öffnet am Samstag seine St
 ände mit Kunsthandwerk\, Glühwein und weihnachtlichen Spezialitäten. De
 r Markt im Zentrum von Obertshausen lädt zum Bummeln und Verweilen ein. V
 ereine und lokale Anbieter sorgen für ein vorweihnachtliches Programm.
GEO:50.070677;8.847936
LAST-MODIFIED:20260420T180001Z
LOCATION:Rathaus Obertshausen\, 63179\, Obertshausen
STATUS:CONFIRMED
URL:https://kulvio.de/event/2789
END:VEVENT
END:VCALENDAR
