BEGIN:VCALENDAR
VERSION:2.0
PRODID:-//Kulvio Event Calendar//kulvio.de//
CALSCALE:GREGORIAN
METHOD:PUBLISH
BEGIN:VEVENT
SUMMARY:Weihnachtsmarkt Obertshausen - Sonntag
DTSTART:20261213T130000Z
DTEND:20261213T190000Z
DTSTAMP:20260421T042805Z
UID:kulvio-event-2790@kulvio.de
CATEGORIES:Weihnachtsmarkt
CREATED:20260419T160339Z
DESCRIPTION:Am Sonntag geht der Obertshäuser Weihnachtsmarkt in die zweit
 e Runde. Im Zentrum der Stadt können Besucher weihnachtliche Geschenke un
 d Dekorationen entdecken. Der Markt bietet ein Rahmenprogramm mit Musik un
 d Aktivitäten für Familien.
GEO:50.070677;8.847936
LAST-MODIFIED:20260420T180002Z
LOCATION:Rathaus Obertshausen\, 63179\, Obertshausen
STATUS:CONFIRMED
URL:https://kulvio.de/event/2790
END:VEVENT
END:VCALENDAR
