BEGIN:VCALENDAR
VERSION:2.0
PRODID:-//Kulvio Event Calendar//kulvio.de//
CALSCALE:GREGORIAN
METHOD:PUBLISH
BEGIN:VEVENT
SUMMARY:Bernhard Westenberger: Gestern ging's noch
DTSTART:20260522T180000Z
DTEND:20260522T200000Z
DTSTAMP:20260421T042427Z
UID:kulvio-event-2791@kulvio.de
CATEGORIES:Kabarett
CREATED:20260419T160356Z
DESCRIPTION:Der Kabarettist Bernhard Westenberger gastiert mit seinem vier
 ten Soloprogramm Gestern ging's noch im Bürgerhaus Nieder-Roden in Rodgau
 . Das Programm erzählt die Lebensgeschichte eines Mannes aus dem Jahrgang
  1966\, der als Großvater seine erzieherische Verantwortung weiterhin ern
 st nimmt. Die Vorstellung im Kleinen Saal beginnt um 20 Uhr\, Tickets kost
 en 20 Euro und ermäßigt 17 Euro.
GEO:49.994549;8.873942
LAST-MODIFIED:20260419T160815Z
LOCATION:Bürgerhaus Nieder-Roden\, Römerstraße 13\, 63110\, Rodgau
STATUS:CONFIRMED
URL:https://kulvio.de/event/2791
END:VEVENT
END:VCALENDAR
