BEGIN:VCALENDAR
VERSION:2.0
PRODID:-//Kulvio Event Calendar//kulvio.de//
CALSCALE:GREGORIAN
METHOD:PUBLISH
BEGIN:VEVENT
SUMMARY:Rodgau Stadtfest - Samstag
DTSTART:20260523T120000Z
DTEND:20260523T210000Z
DTSTAMP:20260421T042458Z
UID:kulvio-event-2792@kulvio.de
CATEGORIES:Stadtfest
CREATED:20260419T160356Z
DESCRIPTION:Das Rodgau Stadtfest findet auf dem Puiseauxplatz in Nieder-Ro
 den statt und bringt die Vereine und Gewerbetreibenden aus allen fünf Sta
 dtteilen zusammen. Am Samstag gibt es ein Bühnenprogramm mit Live-Musik\,
  kulinarische Angebote und Aktivitäten für die ganze Familie. Das dreit
 ägige Fest zählt zu den größten Veranstaltungen der Stadt.
GEO:49.998331;8.866551
LAST-MODIFIED:20260420T175724Z
LOCATION:Puiseauxplatz\, 63110\, Rodgau
STATUS:CONFIRMED
URL:https://kulvio.de/event/2792
END:VEVENT
END:VCALENDAR
