BEGIN:VCALENDAR
VERSION:2.0
PRODID:-//Kulvio Event Calendar//kulvio.de//
CALSCALE:GREGORIAN
METHOD:PUBLISH
BEGIN:VEVENT
SUMMARY:Rodgau Stadtfest - Sonntag
DTSTART:20260524T090000Z
DTEND:20260524T200000Z
DTSTAMP:20260421T042806Z
UID:kulvio-event-2793@kulvio.de
CATEGORIES:Stadtfest
CREATED:20260419T160356Z
DESCRIPTION:Am Sonntag geht das Rodgau Stadtfest auf dem Puiseauxplatz in 
 Nieder-Roden in die zweite Runde. Vereine und lokale Anbieter präsentiere
 n sich mit Ständen und Vorführungen\, begleitet von einem Bühnenprogram
 m. Der Sonntag richtet sich besonders an Familien mit Kindern.
GEO:49.998331;8.866551
LAST-MODIFIED:20260420T175724Z
LOCATION:Puiseauxplatz\, 63110\, Rodgau
STATUS:CONFIRMED
URL:https://kulvio.de/event/2793
END:VEVENT
END:VCALENDAR
