BEGIN:VCALENDAR
VERSION:2.0
PRODID:-//Kulvio Event Calendar//kulvio.de//
CALSCALE:GREGORIAN
METHOD:PUBLISH
BEGIN:VEVENT
SUMMARY:Rodgauer Weinfest - Eröffnung Freitag
DTSTART:20260710T150000Z
DTEND:20260710T210000Z
DTSTAMP:20260421T042817Z
UID:kulvio-event-2794@kulvio.de
CATEGORIES:Tasting,Stadtfest
CREATED:20260419T160356Z
DESCRIPTION:Das Rodgauer Weinfest eröffnet auf dem Puiseauxplatz in Niede
 r-Roden mit einer Auswahl von Weinen aus Rheinhessen\, Rheinpfalz\, Hessis
 cher Bergstraße\, Nahe\, Baden und Österreich. Ab 17 Uhr schenken zahlre
 iche Winzer ihre Weine in gemütlicher Atmosphäre aus. Das zehntägige We
 infest zählt zu den beliebtesten Sommerveranstaltungen in Rodgau.
GEO:49.998331;8.866551
LAST-MODIFIED:20260420T175729Z
LOCATION:Puiseauxplatz\, 63110\, Rodgau
STATUS:CONFIRMED
URL:https://kulvio.de/event/2794
END:VEVENT
END:VCALENDAR
