BEGIN:VCALENDAR
VERSION:2.0
PRODID:-//Kulvio Event Calendar//kulvio.de//
CALSCALE:GREGORIAN
METHOD:PUBLISH
BEGIN:VEVENT
SUMMARY:Rodgauer Weinfest - Samstag
DTSTART:20260711T150000Z
DTEND:20260711T210000Z
DTSTAMP:20260421T035202Z
UID:kulvio-event-2795@kulvio.de
CATEGORIES:Tasting,Stadtfest
CREATED:20260419T160356Z
DESCRIPTION:Am ersten Samstag des Rodgauer Weinfests laden die Winzer ab 1
 7 Uhr auf dem Puiseauxplatz in Nieder-Roden zum Probieren und Verweilen ei
 n. Die Auswahl reicht von Riesling über Spätburgunder bis zu österreich
 ischen Tropfen. Das Weinfest verbindet Weingenuss mit sommerlicher Atmosph
 äre unter freiem Himmel.
GEO:49.998331;8.866551
LAST-MODIFIED:20260420T175730Z
LOCATION:Puiseauxplatz\, 63110\, Rodgau
STATUS:CONFIRMED
URL:https://kulvio.de/event/2795
END:VEVENT
END:VCALENDAR
