BEGIN:VCALENDAR
VERSION:2.0
PRODID:-//Kulvio Event Calendar//kulvio.de//
CALSCALE:GREGORIAN
METHOD:PUBLISH
BEGIN:VEVENT
SUMMARY:Rodgauer Weinfest - Abschluss-Sonntag
DTSTART:20260719T150000Z
DTEND:20260719T210000Z
DTSTAMP:20260421T042810Z
UID:kulvio-event-2796@kulvio.de
CATEGORIES:Tasting,Stadtfest
CREATED:20260419T160356Z
DESCRIPTION:Am letzten Tag des Rodgauer Weinfests haben Besucher ab 17 Uhr
  noch einmal Gelegenheit\, die Weine der teilnehmenden Winzer auf dem Puis
 eauxplatz in Nieder-Roden zu genießen. Das zehntägige Fest endet an dies
 em Sonntag und schließt damit die Weinsaison auf dem Puiseauxplatz ab. De
 r Eintritt ist frei.
GEO:49.998331;8.866551
LAST-MODIFIED:20260420T175730Z
LOCATION:Puiseauxplatz\, 63110\, Rodgau
STATUS:CONFIRMED
URL:https://kulvio.de/event/2796
END:VEVENT
END:VCALENDAR
