BEGIN:VCALENDAR
VERSION:2.0
PRODID:-//Kulvio Event Calendar//kulvio.de//
CALSCALE:GREGORIAN
METHOD:PUBLISH
BEGIN:VEVENT
SUMMARY:Nieder-Röder Kerb - Samstag
DTSTART:20260912T120000Z
DTEND:20260912T210000Z
DTSTAMP:20260421T035122Z
UID:kulvio-event-2797@kulvio.de
CATEGORIES:Stadtfest,Tradition
CREATED:20260419T160356Z
DESCRIPTION:Die Nieder-Röder Kerb ist das traditionelle Volksfest des Rod
 gauer Stadtteils Nieder-Roden und findet rund um den Puiseauxplatz statt. 
 Am Samstag gibt es Fahrgeschäfte\, Festzeltbetrieb und kulinarische Angeb
 ote der örtlichen Vereine. Das Kerbwochenende wird von der Partnerschaft 
 Nieder-Roden Puiseaux organisiert.
GEO:49.998331;8.866551
LAST-MODIFIED:20260420T175738Z
LOCATION:Puiseauxplatz\, 63110\, Rodgau
STATUS:CONFIRMED
URL:https://kulvio.de/event/2797
END:VEVENT
END:VCALENDAR
