BEGIN:VCALENDAR
VERSION:2.0
PRODID:-//Kulvio Event Calendar//kulvio.de//
CALSCALE:GREGORIAN
METHOD:PUBLISH
BEGIN:VEVENT
SUMMARY:Nieder-Röder Kerb - Sonntag
DTSTART:20260913T090000Z
DTEND:20260913T210000Z
DTSTAMP:20260421T042811Z
UID:kulvio-event-2798@kulvio.de
CATEGORIES:Stadtfest,Tradition
CREATED:20260419T160356Z
DESCRIPTION:Am Sonntag erreicht die Nieder-Röder Kerb rund um den Puiseau
 xplatz in Rodgau ihren Höhepunkt. Familien und Kerbfreunde können sich a
 uf Karussells\, Festzelt und die Stände der lokalen Vereine freuen. Die K
 erb ist ein fester Bestandteil des Veranstaltungskalenders in Nieder-Roden
 .
GEO:49.998331;8.866551
LAST-MODIFIED:20260420T175738Z
LOCATION:Puiseauxplatz\, 63110\, Rodgau
STATUS:CONFIRMED
URL:https://kulvio.de/event/2798
END:VEVENT
END:VCALENDAR
