BEGIN:VCALENDAR
VERSION:2.0
PRODID:-//Kulvio Event Calendar//kulvio.de//
CALSCALE:GREGORIAN
METHOD:PUBLISH
BEGIN:VEVENT
SUMMARY:XXL-Flohmarkt im Bürgerhaus Nieder-Roden
DTSTART:20261004T054500Z
DTEND:20261004T144500Z
DTSTAMP:20260421T042435Z
UID:kulvio-event-2799@kulvio.de
CATEGORIES:Flohmarkt
CREATED:20260419T160356Z
DESCRIPTION:Der XXL-Flohmarkt gastiert im Bürgerhaus Nieder-Roden in Rodg
 au und bietet auf großer Fläche Trödel\, Kleidung\, Haushaltswaren und 
 Sammlerstücke an. Von 7:45 bis 16:45 Uhr können Besucher durch die Stän
 de stöbern und Schnäppchen finden. Der Flohmarkt wird vom Verein Starke 
 Hilfe organisiert und findet regelmäßig im Bürgerhaus statt.
GEO:49.994549;8.873942
LAST-MODIFIED:20260419T160815Z
LOCATION:Bürgerhaus Nieder-Roden\, Römerstraße 13\, 63110\, Rodgau
STATUS:CONFIRMED
URL:https://kulvio.de/event/2799
END:VEVENT
END:VCALENDAR
