BEGIN:VCALENDAR
VERSION:2.0
PRODID:-//Kulvio Event Calendar//kulvio.de//
CALSCALE:GREGORIAN
METHOD:PUBLISH
BEGIN:VEVENT
SUMMARY:Mundstuhl: Wir kommen!
DTSTART:20261017T180000Z
DTEND:20261017T203000Z
DTSTAMP:20260421T042429Z
UID:kulvio-event-2800@kulvio.de
CATEGORIES:Comedy
CREATED:20260419T160357Z
DESCRIPTION:Das Comedy-Duo Mundstuhl bringt sein Programm Wir kommen! auf 
 die Bühne des Bürgerhauses Nieder-Roden in Rodgau. Lars Niedereichholz u
 nd Ande Werner präsentieren neue Geschichten ihrer Bühnenfiguren\, darun
 ter die legendären Dragan und Alder. Die Show beginnt um 20 Uhr im Große
 n Saal.
GEO:49.994549;8.873942
LAST-MODIFIED:20260419T160815Z
LOCATION:Bürgerhaus Nieder-Roden\, Römerstraße 13\, 63110\, Rodgau
STATUS:CONFIRMED
URL:https://kulvio.de/event/2800
END:VEVENT
END:VCALENDAR
