BEGIN:VCALENDAR
VERSION:2.0
PRODID:-//Kulvio Event Calendar//kulvio.de//
CALSCALE:GREGORIAN
METHOD:PUBLISH
BEGIN:VEVENT
SUMMARY:Rodgauer Adventsmarkt - Samstag
DTSTART:20261128T130000Z
DTEND:20261128T210000Z
DTSTAMP:20260421T034610Z
UID:kulvio-event-2801@kulvio.de
CATEGORIES:Weihnachtsmarkt
CREATED:20260419T160357Z
DESCRIPTION:Der Rodgauer Adventsmarkt verwandelt den Rathausvorplatz und d
 ie Hintergasse in Jügesheim in ein vorweihnachtliches Dorf. Am Samstag ö
 ffnen die Stände von 14 bis 22 Uhr mit Kunsthandwerk\, Glühwein und weih
 nachtlichen Spezialitäten. In der Pfarrscheune präsentieren Kunsthandwer
 ker ihre Arbeiten auf einem separaten Kreativmarkt.
GEO:50.025556;8.88439
LAST-MODIFIED:20260420T175954Z
LOCATION:Hintergasse 15\, 63110\, Rodgau
STATUS:CONFIRMED
URL:https://kulvio.de/event/2801
END:VEVENT
END:VCALENDAR
