BEGIN:VCALENDAR
VERSION:2.0
PRODID:-//Kulvio Event Calendar//kulvio.de//
CALSCALE:GREGORIAN
METHOD:PUBLISH
BEGIN:VEVENT
SUMMARY:Rodgauer Adventsmarkt - Sonntag
DTSTART:20261129T110000Z
DTEND:20261129T180000Z
DTSTAMP:20260421T034512Z
UID:kulvio-event-2802@kulvio.de
CATEGORIES:Weihnachtsmarkt
CREATED:20260419T160357Z
DESCRIPTION:Am Sonntag lädt der Rodgauer Adventsmarkt in der Hintergasse 
 und am Rathausvorplatz in Jügesheim zum gemütlichen Bummeln ein. Von 12 
 bis 19 Uhr können Besucher Geschenkideen und weihnachtliche Dekorationen 
 entdecken. Das Programm rund um die St.-Nikolaus-Kirche sorgt für adventl
 iche Stimmung in Rodgau.
GEO:50.025556;8.88439
LAST-MODIFIED:20260420T175956Z
LOCATION:Hintergasse 15\, 63110\, Rodgau
STATUS:CONFIRMED
URL:https://kulvio.de/event/2802
END:VEVENT
END:VCALENDAR
