BEGIN:VCALENDAR
VERSION:2.0
PRODID:-//Kulvio Event Calendar//kulvio.de//
CALSCALE:GREGORIAN
METHOD:PUBLISH
BEGIN:VEVENT
SUMMARY:Henni Nachtsheim liest Eintracht Frankfurt
DTSTART:20260429T173000Z
DTEND:20260429T193000Z
DTSTAMP:20260421T041935Z
UID:kulvio-event-2803@kulvio.de
CATEGORIES:Lesung,Comedy
CREATED:20260419T160409Z
DESCRIPTION:Henni Nachtsheim\, bekannt als eine Hälfte des Comedy-Duos Ba
 desalz\, liest in der Kulturhalle Rödermark aus seinem Buch Eintracht Fra
 nkfurt – Eine Liebeserklärung. Der Abend verbindet Humor mit der Leiden
 schaft für den Frankfurter Fußballverein. Die Lesung beginnt um 19:30 Uh
 r.
GEO:49.976161;8.827356
LAST-MODIFIED:20260419T160815Z
LOCATION:Kulturhalle Rödermark\, Dieburger Straße 27\, 63322\, Rödermar
 k
STATUS:CONFIRMED
URL:https://kulvio.de/event/2803
END:VEVENT
END:VCALENDAR
