BEGIN:VCALENDAR
VERSION:2.0
PRODID:-//Kulvio Event Calendar//kulvio.de//
CALSCALE:GREGORIAN
METHOD:PUBLISH
BEGIN:VEVENT
SUMMARY:Wigald Boning & Bernhard Hoëcker: Gute Frage!
DTSTART:20260506T180000Z
DTEND:20260506T200000Z
DTSTAMP:20260421T041933Z
UID:kulvio-event-2804@kulvio.de
CATEGORIES:Comedy,Show
CREATED:20260419T160409Z
DESCRIPTION:Das Comedyduo Wigald Boning und Bernhard Hoëcker bringt seine
  interaktive Wissensshow Gute Frage! in die Kulturhalle Rödermark. Das Pu
 blikum stellt Fragen\, und die beiden Entertainer beleuchten die Antworten
  aus allen erdenklichen Perspektiven. Die Show beginnt um 20 Uhr.
GEO:49.976161;8.827356
LAST-MODIFIED:20260419T160815Z
LOCATION:Kulturhalle Rödermark\, Dieburger Straße 27\, 63322\, Rödermar
 k
STATUS:CONFIRMED
URL:https://kulvio.de/event/2804
END:VEVENT
END:VCALENDAR
