BEGIN:VCALENDAR
VERSION:2.0
PRODID:-//Kulvio Event Calendar//kulvio.de//
CALSCALE:GREGORIAN
METHOD:PUBLISH
BEGIN:VEVENT
SUMMARY:Hans Theessink in Concert
DTSTART:20260511T180000Z
DTEND:20260511T200000Z
DTSTAMP:20260421T042312Z
UID:kulvio-event-2805@kulvio.de
CATEGORIES:Konzert
CREATED:20260419T160409Z
DESCRIPTION:Der niederländisch-österreichische Blues- und Folk-Musiker H
 ans Theessink gastiert in der Kulturhalle Rödermark. Theessink gilt als e
 iner der profiliertesten Akustik-Bluesmusiker Europas und bringt seine war
 mherzigen Songs auf die Bühne. Das Konzert beginnt um 20 Uhr.
GEO:49.976161;8.827356
LAST-MODIFIED:20260419T160815Z
LOCATION:Kulturhalle Rödermark\, Dieburger Straße 27\, 63322\, Rödermar
 k
STATUS:CONFIRMED
URL:https://kulvio.de/event/2805
END:VEVENT
END:VCALENDAR
