BEGIN:VCALENDAR
VERSION:2.0
PRODID:-//Kulvio Event Calendar//kulvio.de//
CALSCALE:GREGORIAN
METHOD:PUBLISH
BEGIN:VEVENT
SUMMARY:Der zerbrochne Krug: Westfälisches Landestheater
DTSTART:20260512T173000Z
DTEND:20260512T193000Z
DTSTAMP:20260421T042124Z
UID:kulvio-event-2806@kulvio.de
CATEGORIES:Theater
CREATED:20260419T160409Z
DESCRIPTION:Das Westfälische Landestheater gastiert mit Heinrich von Klei
 sts Lustspiel Der zerbrochne Krug in der Kulturhalle Rödermark. Das Stüc
 k zählt zu den beliebtesten deutschen Komödien und erzählt von einem ko
 rrupten Dorfrichter\, der seinen eigenen Fall verhandeln muss. Die Vorstel
 lung beginnt um 19:30 Uhr.
GEO:49.976161;8.827356
LAST-MODIFIED:20260419T160815Z
LOCATION:Kulturhalle Rödermark\, Dieburger Straße 27\, 63322\, Rödermar
 k
STATUS:CONFIRMED
URL:https://kulvio.de/event/2806
END:VEVENT
END:VCALENDAR
