BEGIN:VCALENDAR
VERSION:2.0
PRODID:-//Kulvio Event Calendar//kulvio.de//
CALSCALE:GREGORIAN
METHOD:PUBLISH
BEGIN:VEVENT
SUMMARY:Markus Krebs: 15 Jahre - Das Beste aus 6 Programmen
DTSTART:20261003T180000Z
DTEND:20261003T200000Z
DTSTAMP:20260421T041933Z
UID:kulvio-event-2807@kulvio.de
CATEGORIES:Comedy
CREATED:20260419T160409Z
DESCRIPTION:Der Comedian Markus Krebs feiert sein 15-jähriges Bühnenjubi
 läum mit einer Best-of-Show in der Kulturhalle Rödermark. Der als Hocker
 -Rocker bekannte Komiker serviert die besten Nummern aus sechs Live-Progra
 mmen mit seiner gewohnt hohen Witzdichte. Die Jubiläumsshow beginnt um 20
  Uhr.
GEO:49.976161;8.827356
LAST-MODIFIED:20260419T160815Z
LOCATION:Kulturhalle Rödermark\, Dieburger Straße 27\, 63322\, Rödermar
 k
STATUS:CONFIRMED
URL:https://kulvio.de/event/2807
END:VEVENT
END:VCALENDAR
