BEGIN:VCALENDAR
VERSION:2.0
PRODID:-//Kulvio Event Calendar//kulvio.de//
CALSCALE:GREGORIAN
METHOD:PUBLISH
BEGIN:VEVENT
SUMMARY:Dr. Mark Benecke: Kriminalfälle am Rande des Möglichen
DTSTART:20261024T173000Z
DTEND:20261024T200000Z
DTSTAMP:20260421T042009Z
UID:kulvio-event-2808@kulvio.de
CATEGORIES:Vortrag,Show
CREATED:20260419T160409Z
DESCRIPTION:Der Kriminalbiologe Dr. Mark Benecke präsentiert seinen Vortr
 ag Kriminalfälle am Rande des Möglichen in der Kulturhalle Rödermark. B
 enecke\, bekannt als Experte für forensische Entomologie\, nimmt das Publ
 ikum mit auf eine Reise durch spektakuläre Kriminalfälle. Der Vortrag be
 ginnt um 19:30 Uhr.
GEO:49.976161;8.827356
LAST-MODIFIED:20260419T160815Z
LOCATION:Kulturhalle Rödermark\, Dieburger Straße 27\, 63322\, Rödermar
 k
STATUS:CONFIRMED
URL:https://kulvio.de/event/2808
END:VEVENT
END:VCALENDAR
