BEGIN:VCALENDAR
VERSION:2.0
PRODID:-//Kulvio Event Calendar//kulvio.de//
CALSCALE:GREGORIAN
METHOD:PUBLISH
BEGIN:VEVENT
SUMMARY:Adventsmarkt Ober-Roden - Samstag
DTSTART:20261128T140000Z
DTEND:20261128T190000Z
DTSTAMP:20260421T042120Z
UID:kulvio-event-2809@kulvio.de
CATEGORIES:Weihnachtsmarkt
CREATED:20260419T160409Z
DESCRIPTION:Der Adventsmarkt in Ober-Roden verwandelt den Marktplatz rund 
 um die Kirche in ein vorweihnachtliches Dorf. Rund 40 Stände bieten Kunst
 handwerk\, Glühwein und weihnachtliche Spezialitäten an. Ein Kinderkarus
 sell vor der Kirche und ein Bühnenprogramm ergänzen das Angebot für Fam
 ilien.
GEO:49.979035;8.827355
LAST-MODIFIED:20260420T175955Z
LOCATION:Marktplatz Ober-Roden\, 63322\, Rödermark
STATUS:CONFIRMED
URL:https://kulvio.de/event/2809
END:VEVENT
END:VCALENDAR
