BEGIN:VCALENDAR
VERSION:2.0
PRODID:-//Kulvio Event Calendar//kulvio.de//
CALSCALE:GREGORIAN
METHOD:PUBLISH
BEGIN:VEVENT
SUMMARY:Adventsmarkt Ober-Roden - Sonntag
DTSTART:20261129T100000Z
DTEND:20261129T190000Z
DTSTAMP:20260421T042432Z
UID:kulvio-event-2810@kulvio.de
CATEGORIES:Weihnachtsmarkt
CREATED:20260419T160409Z
DESCRIPTION:Am Sonntag lädt der Adventsmarkt in Ober-Roden zum gemütlich
 en Bummeln über den Marktplatz ein. Von 11 bis 20 Uhr gibt es Geschenkide
 en\, weihnachtliche Dekorationen und kulinarische Angebote. Der Markt rund
  um die Kirche gehört zu den beliebtesten Adventsveranstaltungen in Röde
 rmark.
GEO:49.979035;8.827355
LAST-MODIFIED:20260420T175955Z
LOCATION:Marktplatz Ober-Roden\, 63322\, Rödermark
STATUS:CONFIRMED
URL:https://kulvio.de/event/2810
END:VEVENT
END:VCALENDAR
