BEGIN:VCALENDAR
VERSION:2.0
PRODID:-//Kulvio Event Calendar//kulvio.de//
CALSCALE:GREGORIAN
METHOD:PUBLISH
BEGIN:VEVENT
SUMMARY:Seligenstädter Weinmarkt - Freitag
DTSTART:20260918T150000Z
DTEND:20260918T200000Z
DTSTAMP:20260421T034512Z
UID:kulvio-event-2813@kulvio.de
CATEGORIES:Tasting,Stadtfest
CREATED:20260419T160444Z
DESCRIPTION:Der Seligenstädter Weinmarkt eröffnet am Freitagabend auf de
 m historischen Marktplatz. Ab 17 Uhr präsentieren Winzer aus verschiedene
 n Anbaugebieten ihre Weine\, begleitet von kulinarischen Angeboten und Liv
 e-Musik. Der dreitägige Weinmarkt gehört zu den Höhepunkten des Veranst
 altungskalenders.
GEO:50.044066;8.975137
LAST-MODIFIED:20260420T175739Z
LOCATION:Marktplatz\, 63500\, Seligenstadt
STATUS:CONFIRMED
URL:https://kulvio.de/event/2813
END:VEVENT
END:VCALENDAR
