BEGIN:VCALENDAR
VERSION:2.0
PRODID:-//Kulvio Event Calendar//kulvio.de//
CALSCALE:GREGORIAN
METHOD:PUBLISH
BEGIN:VEVENT
SUMMARY:Seligenstädter Adventsmarkt - Eröffnungssamstag
DTSTART:20261128T090000Z
DTEND:20261128T200000Z
DTSTAMP:20260421T043145Z
UID:kulvio-event-2814@kulvio.de
CATEGORIES:Weihnachtsmarkt
CREATED:20260419T160444Z
DESCRIPTION:Der Seligenstädter Adventsmarkt öffnet Ende November seine S
 tände auf dem Freihofplatz und dem Marktplatz in der historischen Altstad
 t. Am ersten Samstag gibt es von 10 bis 21 Uhr Kunsthandwerk\, Glühwein u
 nd weihnachtliche Spezialitäten. Der Adventsmarkt erstreckt sich über me
 hrere Wochen bis Mitte Dezember.
GEO:50.042759;8.976879
LAST-MODIFIED:20260420T175952Z
LOCATION:Freihofplatz\, 63500\, Seligenstadt
STATUS:CONFIRMED
URL:https://kulvio.de/event/2814
END:VEVENT
END:VCALENDAR
