BEGIN:VCALENDAR
VERSION:2.0
PRODID:-//Kulvio Event Calendar//kulvio.de//
CALSCALE:GREGORIAN
METHOD:PUBLISH
BEGIN:VEVENT
SUMMARY:Seligenstädter Adventsmarkt - 2. Samstag
DTSTART:20261205T090000Z
DTEND:20261205T200000Z
DTSTAMP:20260421T042811Z
UID:kulvio-event-2815@kulvio.de
CATEGORIES:Weihnachtsmarkt
CREATED:20260419T160444Z
DESCRIPTION:Am zweiten Samstag des Seligenstädter Adventsmarkts laden die
  Stände auf dem Freihofplatz und Marktplatz erneut zum vorweihnachtlichen
  Bummeln ein. Von 10 bis 21 Uhr bieten Aussteller Geschenkideen\, Dekorati
 onen und kulinarische Spezialitäten an. Die festlich beleuchtete Altstadt
  sorgt für eine besinnliche Atmosphäre.
GEO:50.042759;8.976879
LAST-MODIFIED:20260420T175956Z
LOCATION:Freihofplatz\, 63500\, Seligenstadt
STATUS:CONFIRMED
URL:https://kulvio.de/event/2815
END:VEVENT
END:VCALENDAR
