BEGIN:VCALENDAR
VERSION:2.0
PRODID:-//Kulvio Event Calendar//kulvio.de//
CALSCALE:GREGORIAN
METHOD:PUBLISH
BEGIN:VEVENT
SUMMARY:Benjamin Tienti: Wer schnappt Ronaldo? - Autorenlesung
DTSTART:20260522T070000Z
DTEND:20260522T080000Z
DTSTAMP:20260421T042425Z
UID:kulvio-event-2816@kulvio.de
CATEGORIES:Lesung
CREATED:20260419T160459Z
DESCRIPTION:Im Rahmen des Kinder- und Jugendliteraturfestivals Huch\, ein 
 Buch! liest der Autor Benjamin Tienti im Ernst-Ludwig-Saal in Darmstadt-Eb
 erstadt aus seinem Buch vor. Die Lesung richtet sich an Kinder ab neun Jah
 ren und findet als Schulveranstaltung am Vormittag statt. Das Festival fei
 ert 2026 sein 15-jähriges Bestehen und stellt Bücher in den Mittelpunkt\
 , die sich mit Demokratie\, Gleichberechtigung und Menschenrechten beschä
 ftigen.
GEO:49.81924;8.644649
LAST-MODIFIED:20260420T175720Z
LOCATION:Ernst-Ludwig-Saal\, Schwanenstraße 42\, 64297\, Darmstadt
STATUS:CONFIRMED
URL:https://kulvio.de/event/2816
END:VEVENT
END:VCALENDAR
