BEGIN:VCALENDAR
VERSION:2.0
PRODID:-//Kulvio Event Calendar//kulvio.de//
CALSCALE:GREGORIAN
METHOD:PUBLISH
BEGIN:VEVENT
SUMMARY:Frauke Angel: Logbuch einer Himmelsstürmerin - Autorinnenlesung
DTSTART:20260522T090000Z
DTEND:20260522T100000Z
DTSTAMP:20260421T042501Z
UID:kulvio-event-2817@kulvio.de
CATEGORIES:Lesung
CREATED:20260419T160459Z
DESCRIPTION:Die Autorin Frauke Angel liest im Ernst-Ludwig-Saal in Darmsta
 dt-Eberstadt aus ihrem Buch Logbuch einer Himmelsstürmerin vor. Die Veran
 staltung ist Teil des Kinder- und Jugendliteraturfestivals Huch\, ein Buch
 ! und richtet sich an Kinder ab acht Jahren. Das Festival wird von der Cen
 tralstation Darmstadt organisiert und bringt jedes Jahr bekannte Autorinne
 n und Autoren in Darmstädter Schulen und Veranstaltungsorte.
GEO:49.81924;8.644649
LAST-MODIFIED:20260420T175720Z
LOCATION:Ernst-Ludwig-Saal\, Schwanenstraße 42\, 64297\, Darmstadt
STATUS:CONFIRMED
URL:https://kulvio.de/event/2817
END:VEVENT
END:VCALENDAR
