BEGIN:VCALENDAR
VERSION:2.0
PRODID:-//Kulvio Event Calendar//kulvio.de//
CALSCALE:GREGORIAN
METHOD:PUBLISH
BEGIN:VEVENT
SUMMARY:81. Dotter-Konzert: Tuba Tubissima und die Königin der Instrument
 e
DTSTART:20261115T160000Z
DTEND:20261115T180000Z
DTSTAMP:20260421T042425Z
UID:kulvio-event-2818@kulvio.de
CATEGORIES:Konzert
CREATED:20260419T160459Z
DESCRIPTION:Die Dotter-Stiftung lädt zum 81. Dotter-Konzert in die Christ
 uskirche Darmstadt-Eberstadt ein. Unter dem Titel Tuba Tubissima und die K
 önigin der Instrumente steht ein außergewöhnliches Zusammenspiel von Tu
 ba und Orgel im Mittelpunkt des Abends. Die Dotter-Konzerte sind seit Jahr
 en fester Bestandteil des kulturellen Lebens in Eberstadt und präsentiere
 n Musik verschiedener Epochen und Stilrichtungen in den Kirchen und Sälen
  des Stadtteils. Karten sind im Vorverkauf und an der Abendkasse erhältli
 ch.
GEO:49.824788;8.643226
LAST-MODIFIED:20260419T160815Z
LOCATION:Christuskirche Eberstadt\, Heidelberger Landstraße 155\, 64297\,
  Darmstadt
STATUS:CONFIRMED
URL:https://kulvio.de/event/2818
END:VEVENT
END:VCALENDAR
