BEGIN:VCALENDAR
VERSION:2.0
PRODID:-//Kulvio Event Calendar//kulvio.de//
CALSCALE:GREGORIAN
METHOD:PUBLISH
BEGIN:VEVENT
SUMMARY:Bruchköbeler Frühlingsmarkt
DTSTART:20260503T090000Z
DTEND:20260503T160000Z
DTSTAMP:20260421T035133Z
UID:kulvio-event-2819@kulvio.de
CATEGORIES:Saisonmarkt
CREATED:20260419T160511Z
DESCRIPTION:Der Bruchköbeler Frühlingsmarkt verwandelt den Stadtplatz ru
 nd um das Stadthaus in eine bunte Pflanzenwelt. Gärtnereien aus der Regio
 n bieten Blumen\, Gemüsepflanzen und Kräuter an\, ergänzt durch kulinar
 ische Stände und Mitmachaktionen für Kinder. Der Markt findet von 11 bis
  18 Uhr statt und lädt Familien zum Stöbern und Verweilen ein.
GEO:50.178774;8.917917
LAST-MODIFIED:20260420T175722Z
LOCATION:Stadtplatz\, 63486\, Bruchköbel
STATUS:CONFIRMED
URL:https://kulvio.de/event/2819
END:VEVENT
END:VCALENDAR
