BEGIN:VCALENDAR
VERSION:2.0
PRODID:-//Kulvio Event Calendar//kulvio.de//
CALSCALE:GREGORIAN
METHOD:PUBLISH
BEGIN:VEVENT
SUMMARY:Bruchköbeler Hof- und Gassenfest - Freitag
DTSTART:20260626T150000Z
DTEND:20260626T215900Z
DTSTAMP:20260421T042432Z
UID:kulvio-event-2820@kulvio.de
CATEGORIES:Stadtfest
CREATED:20260419T160511Z
DESCRIPTION:Das Bruchköbeler Hof- und Gassenfest öffnet am Freitagabend 
 die historischen Höfe und Gassen der Altstadt für Besucher. In den Innen
 höfen gibt es Live-Musik und kulinarische Spezialitäten in besonderer At
 mosphäre. Das zweitägige Fest wird vom Kulturring und dem Verein Wundert
 üte organisiert und zieht seit vielen Jahren zahlreiche Gäste an.
GEO:50.195066;8.934732
LAST-MODIFIED:20260420T175727Z
LOCATION:Altstadt\, 63486\, Bruchköbel
STATUS:CONFIRMED
URL:https://kulvio.de/event/2820
END:VEVENT
END:VCALENDAR
