BEGIN:VCALENDAR
VERSION:2.0
PRODID:-//Kulvio Event Calendar//kulvio.de//
CALSCALE:GREGORIAN
METHOD:PUBLISH
BEGIN:VEVENT
SUMMARY:Bruchköbeler Hof- und Gassenfest - Samstag
DTSTART:20260627T120000Z
DTEND:20260627T215900Z
DTSTAMP:20260421T041938Z
UID:kulvio-event-2821@kulvio.de
CATEGORIES:Stadtfest
CREATED:20260419T160511Z
DESCRIPTION:Am Samstag geht das Bruchköbeler Hof- und Gassenfest in die z
 weite Runde. Die historischen Höfe und Gassen der Altstadt laden erneut z
 u Live-Musik und kulinarischen Angeboten ein. Die besondere Kulisse der al
 ten Fachwerkhäuser macht das Fest zu einem der stimmungsvollsten Veransta
 ltungen in Bruchköbel.
GEO:50.195066;8.934732
LAST-MODIFIED:20260420T175727Z
LOCATION:Altstadt\, 63486\, Bruchköbel
STATUS:CONFIRMED
URL:https://kulvio.de/event/2821
END:VEVENT
END:VCALENDAR
