BEGIN:VCALENDAR
VERSION:2.0
PRODID:-//Kulvio Event Calendar//kulvio.de//
CALSCALE:GREGORIAN
METHOD:PUBLISH
BEGIN:VEVENT
SUMMARY:Bruchköbeler Altstadtfest - Freitag
DTSTART:20260814T160000Z
DTEND:20260814T215900Z
DTSTAMP:20260421T042120Z
UID:kulvio-event-2822@kulvio.de
CATEGORIES:Stadtfest
CREATED:20260419T160511Z
DESCRIPTION:Das Bruchköbeler Altstadtfest eröffnet am Freitagabend auf d
 em Freien Platz in der historischen Altstadt. Der Bürgermeister zapft tra
 ditionell das erste Fass an und eröffnet damit das dreitägige Fest. Live
 -Bands sorgen auf mehreren Bühnen für Unterhaltung\, während Vereine un
 d Gastronomen auf dem Freien Platz ausschenken.
GEO:50.178559;8.920837
LAST-MODIFIED:20260420T175734Z
LOCATION:Freier Platz\, 63486\, Bruchköbel
STATUS:CONFIRMED
URL:https://kulvio.de/event/2822
END:VEVENT
END:VCALENDAR
