BEGIN:VCALENDAR
VERSION:2.0
PRODID:-//Kulvio Event Calendar//kulvio.de//
CALSCALE:GREGORIAN
METHOD:PUBLISH
BEGIN:VEVENT
SUMMARY:Bruchköbeler Altstadtfest - Samstag
DTSTART:20260815T100000Z
DTEND:20260815T215900Z
DTSTAMP:20260421T042436Z
UID:kulvio-event-2823@kulvio.de
CATEGORIES:Stadtfest
CREATED:20260419T160511Z
DESCRIPTION:Am Samstag erreicht das Bruchköbeler Altstadtfest seinen Höh
 epunkt. Ab 12 Uhr verwandelt sich der Freie Platz in einen großen Biergar
 ten mit Live-Musik auf mehreren Bühnen. Das seit 1993 jährlich stattfind
 ende Fest gehört zu den größten Veranstaltungen der Stadt und bietet Pr
 ogramm für die ganze Familie.
GEO:50.178559;8.920837
LAST-MODIFIED:20260420T175734Z
LOCATION:Freier Platz\, 63486\, Bruchköbel
STATUS:CONFIRMED
URL:https://kulvio.de/event/2823
END:VEVENT
END:VCALENDAR
