BEGIN:VCALENDAR
VERSION:2.0
PRODID:-//Kulvio Event Calendar//kulvio.de//
CALSCALE:GREGORIAN
METHOD:PUBLISH
BEGIN:VEVENT
SUMMARY:Bruchköbeler Altstadtfest - Sonntag
DTSTART:20260816T080000Z
DTEND:20260816T180000Z
DTSTAMP:20260421T042458Z
UID:kulvio-event-2824@kulvio.de
CATEGORIES:Stadtfest,Flohmarkt
CREATED:20260419T160511Z
DESCRIPTION:Am Sonntag klingt das Bruchköbeler Altstadtfest mit einem Fr
 ühschoppen ab 10 Uhr auf dem Freien Platz aus. Neben dem Bühnenprogramm 
 gibt es einen Flohmarkt und einen verkaufsoffenen Sonntag in der Innenstad
 t. Das Familienprogramm mit Mitmachaktionen für Kinder rundet den letzten
  Festtag ab.
GEO:50.178559;8.920837
LAST-MODIFIED:20260420T175734Z
LOCATION:Freier Platz\, 63486\, Bruchköbel
STATUS:CONFIRMED
URL:https://kulvio.de/event/2824
END:VEVENT
END:VCALENDAR
