BEGIN:VCALENDAR
VERSION:2.0
PRODID:-//Kulvio Event Calendar//kulvio.de//
CALSCALE:GREGORIAN
METHOD:PUBLISH
BEGIN:VEVENT
SUMMARY:Bruchköbeler Weihnachtsmarkt - Freitag
DTSTART:20261127T150000Z
DTEND:20261127T210000Z
DTSTAMP:20260421T042502Z
UID:kulvio-event-2825@kulvio.de
CATEGORIES:Weihnachtsmarkt
CREATED:20260419T160511Z
DESCRIPTION:Der Bruchköbeler Weihnachtsmarkt eröffnet am ersten Adventsw
 ochenende auf dem Freien Platz in der historischen Altstadt. Am Freitag st
 artet das Fest um 16 Uhr mit dem traditionellen Wichtelumzug\, bei dem Kin
 der mit Laternen durch die Altstadt ziehen. Über 30 Stände bieten Kunsth
 andwerk\, Glühwein und weihnachtliche Spezialitäten an.
GEO:50.178559;8.920837
LAST-MODIFIED:20260420T175952Z
LOCATION:Freier Platz\, 63486\, Bruchköbel
STATUS:CONFIRMED
URL:https://kulvio.de/event/2825
END:VEVENT
END:VCALENDAR
