BEGIN:VCALENDAR
VERSION:2.0
PRODID:-//Kulvio Event Calendar//kulvio.de//
CALSCALE:GREGORIAN
METHOD:PUBLISH
BEGIN:VEVENT
SUMMARY:Bruchköbeler Weihnachtsmarkt - Samstag
DTSTART:20261128T130000Z
DTEND:20261128T210000Z
DTSTAMP:20260421T042502Z
UID:kulvio-event-2826@kulvio.de
CATEGORIES:Weihnachtsmarkt
CREATED:20260419T160511Z
DESCRIPTION:Am Samstag lädt der Bruchköbeler Weihnachtsmarkt von 14 bis 
 22 Uhr zum vorweihnachtlichen Bummeln über den Freien Platz ein. Der Mark
 t erstreckt sich entlang der Hauptstraße bis zum Stadthaus\, wo ein separ
 ater Kunsthandwerkermarkt stattfindet. Vereine und lokale Anbieter sorgen 
 mit kulinarischen Spezialitäten und einer lebensgroßen Krippe für adven
 tliche Stimmung.
GEO:50.178559;8.920837
LAST-MODIFIED:20260420T175952Z
LOCATION:Freier Platz\, 63486\, Bruchköbel
STATUS:CONFIRMED
URL:https://kulvio.de/event/2826
END:VEVENT
END:VCALENDAR
