BEGIN:VCALENDAR
VERSION:2.0
PRODID:-//Kulvio Event Calendar//kulvio.de//
CALSCALE:GREGORIAN
METHOD:PUBLISH
BEGIN:VEVENT
SUMMARY:Bruchköbeler Weihnachtsmarkt - Sonntag
DTSTART:20261129T100000Z
DTEND:20261129T190000Z
DTSTAMP:20260421T042432Z
UID:kulvio-event-2827@kulvio.de
CATEGORIES:Weihnachtsmarkt
CREATED:20260419T160511Z
DESCRIPTION:Am Sonntag geht der Bruchköbeler Weihnachtsmarkt am Freien Pl
 atz in die letzte Runde. Von 11 bis 20 Uhr können Besucher noch einmal du
 rch die Stände stöbern und Geschenkideen entdecken. Das Kinderkarussell 
 und das Bühnenprogramm machen den letzten Markttag besonders familienfreu
 ndlich.
GEO:50.178559;8.920837
LAST-MODIFIED:20260420T175955Z
LOCATION:Freier Platz\, 63486\, Bruchköbel
STATUS:CONFIRMED
URL:https://kulvio.de/event/2827
END:VEVENT
END:VCALENDAR
