BEGIN:VCALENDAR
VERSION:2.0
PRODID:-//Kulvio Event Calendar//kulvio.de//
CALSCALE:GREGORIAN
METHOD:PUBLISH
BEGIN:VEVENT
SUMMARY:Roßdorfer Weihnachtsmarkt - Samstag
DTSTART:20261205T150000Z
DTEND:20261205T210000Z
DTSTAMP:20260421T042120Z
UID:kulvio-event-2828@kulvio.de
CATEGORIES:Weihnachtsmarkt
CREATED:20260419T160511Z
DESCRIPTION:Der Roßdorfer Weihnachtsmarkt findet am zweiten Adventswochen
 ende rund um das alte Rathaus im Bruchköbeler Stadtteil Roßdorf statt. A
 m Samstag öffnen die Stände von 16 bis 22 Uhr mit Kunsthandwerk\, Glühw
 ein und weihnachtlichen Leckereien. Der Stadtteilmarkt bietet eine gemütl
 iche Alternative zum größeren Weihnachtsmarkt in der Altstadt.
GEO:50.199701;8.911057
LAST-MODIFIED:20260420T175959Z
LOCATION:Altes Rathaus Roßdorf\, 63486\, Bruchköbel
STATUS:CONFIRMED
URL:https://kulvio.de/event/2828
END:VEVENT
END:VCALENDAR
