BEGIN:VCALENDAR
VERSION:2.0
PRODID:-//Kulvio Event Calendar//kulvio.de//
CALSCALE:GREGORIAN
METHOD:PUBLISH
BEGIN:VEVENT
SUMMARY:Roßdorfer Weihnachtsmarkt - Sonntag
DTSTART:20261206T110000Z
DTEND:20261206T190000Z
DTSTAMP:20260421T041938Z
UID:kulvio-event-2829@kulvio.de
CATEGORIES:Weihnachtsmarkt
CREATED:20260419T160511Z
DESCRIPTION:Am Sonntag lädt der Roßdorfer Weihnachtsmarkt von 12 bis 20 
 Uhr rund um das alte Rathaus zum gemütlichen Bummeln ein. Die Stände im 
 Bruchköbeler Stadtteil Roßdorf bieten Geschenkideen und kulinarische Ang
 ebote in familiärer Atmosphäre. Der traditionelle Adventsmarkt ist beson
 ders bei Familien aus der Nachbarschaft beliebt.
GEO:50.199701;8.911057
LAST-MODIFIED:20260420T175959Z
LOCATION:Altes Rathaus Roßdorf\, 63486\, Bruchköbel
STATUS:CONFIRMED
URL:https://kulvio.de/event/2829
END:VEVENT
END:VCALENDAR
