BEGIN:VCALENDAR
VERSION:2.0
PRODID:-//Kulvio Event Calendar//kulvio.de//
CALSCALE:GREGORIAN
METHOD:PUBLISH
BEGIN:VEVENT
SUMMARY:Oberissigheimer Weihnachtsmarkt - Samstag
DTSTART:20261219T153000Z
DTEND:20261219T203000Z
DTSTAMP:20260421T042308Z
UID:kulvio-event-2830@kulvio.de
CATEGORIES:Weihnachtsmarkt
CREATED:20260419T160511Z
DESCRIPTION:Der Oberissigheimer Weihnachtsmarkt öffnet am vierten Advents
 wochenende seine Stände entlang der Langstraße im alten Dorfkern. Am Sam
 stag gibt es von 16:30 bis 21:30 Uhr Kunsthandwerk\, warme Getränke und w
 eihnachtliche Speisen vor der Kulisse historischer Fachwerkhäuser. Der Ma
 rkt wird von der Eintracht Oberissigheim organisiert und bietet ein Kinder
 karussell sowie verschiedene Mitmachaktionen.
GEO:50.194585;8.958111
LAST-MODIFIED:20260420T180003Z
LOCATION:Langstraße\, 63486\, Bruchköbel
STATUS:CONFIRMED
URL:https://kulvio.de/event/2830
END:VEVENT
END:VCALENDAR
