BEGIN:VCALENDAR
VERSION:2.0
PRODID:-//Kulvio Event Calendar//kulvio.de//
CALSCALE:GREGORIAN
METHOD:PUBLISH
BEGIN:VEVENT
SUMMARY:Oberissigheimer Weihnachtsmarkt - Sonntag
DTSTART:20261220T093000Z
DTEND:20261220T180000Z
DTSTAMP:20260421T042500Z
UID:kulvio-event-2831@kulvio.de
CATEGORIES:Weihnachtsmarkt
CREATED:20260419T160511Z
DESCRIPTION:Am Sonntag geht der Oberissigheimer Weihnachtsmarkt in die zwe
 ite Runde. Von 10:30 bis 19 Uhr laden die Stände entlang der Langstraße 
 zum Stöbern und Verweilen ein. Höhepunkte des Tages sind das Kinderschmi
 nken am Nachmittag und die traditionelle Verlosung mit anschließendem Fac
 kelzug der Freiwilligen Feuerwehr zum Abschluss.
GEO:50.194585;8.958111
LAST-MODIFIED:20260420T180003Z
LOCATION:Langstraße\, 63486\, Bruchköbel
STATUS:CONFIRMED
URL:https://kulvio.de/event/2831
END:VEVENT
END:VCALENDAR
