BEGIN:VCALENDAR
VERSION:2.0
PRODID:-//Kulvio Event Calendar//kulvio.de//
CALSCALE:GREGORIAN
METHOD:PUBLISH
BEGIN:VEVENT
SUMMARY:New Orleans Connection Jazzband in der Wasserburg
DTSTART:20260606T180000Z
DTEND:20260606T203000Z
DTSTAMP:20260421T042121Z
UID:kulvio-event-2832@kulvio.de
CATEGORIES:Konzert
CREATED:20260419T160523Z
DESCRIPTION:Die New Orleans Connection Jazzband gastiert mit Sängerin Ing
 rid Schwarz in der historischen Wasserburg Erlensee-Rückingen. Das Ensemb
 le unter der Leitung von Peter Wichert präsentiert einen Abend voller Swi
 ng und Jazz mit internationalem Flair. Das Konzert ist Teil der Erlenseer 
 Kulturnächte 2026.
GEO:50.15529;8.990446
LAST-MODIFIED:20260419T160815Z
LOCATION:Historische Wasserburg Erlensee\, An der Wasserburg 1\, 63526\, E
 rlensee
STATUS:CONFIRMED
URL:https://kulvio.de/event/2832
END:VEVENT
END:VCALENDAR
