BEGIN:VCALENDAR
VERSION:2.0
PRODID:-//Kulvio Event Calendar//kulvio.de//
CALSCALE:GREGORIAN
METHOD:PUBLISH
BEGIN:VEVENT
SUMMARY:Corelli Ensemble mit Jazz-Duo Sax n Bass
DTSTART:20260613T180000Z
DTEND:20260613T200000Z
DTSTAMP:20260421T042004Z
UID:kulvio-event-2833@kulvio.de
CATEGORIES:Konzert
CREATED:20260419T160523Z
DESCRIPTION:Das Corelli Ensemble trifft in der Evangelischen Kirche Rücki
 ngen auf das Jazz-Duo Sax n Bass. Der Abend verbindet klassische Musik mit
  modernen Jazz-Elementen zu einer musikalischen Reise durch die Jahrhunder
 te. Das Konzert findet im Rahmen der Erlenseer Kulturnächte 2026 statt.
GEO:50.15546;8.989436
LAST-MODIFIED:20260419T160815Z
LOCATION:Evangelische Kirche Rückingen\, Rodenbacher Straße 8\, 63526\, 
 Erlensee
STATUS:CONFIRMED
URL:https://kulvio.de/event/2833
END:VEVENT
END:VCALENDAR
