BEGIN:VCALENDAR
VERSION:2.0
PRODID:-//Kulvio Event Calendar//kulvio.de//
CALSCALE:GREGORIAN
METHOD:PUBLISH
BEGIN:VEVENT
SUMMARY:Beautiful Noise und Beatles Revival Band in der Wasserburg
DTSTART:20260627T180000Z
DTEND:20260627T210000Z
DTSTAMP:20260421T042309Z
UID:kulvio-event-2834@kulvio.de
CATEGORIES:Konzert
CREATED:20260419T160523Z
DESCRIPTION:Ein Doppelkonzert in der historischen Wasserburg Erlensee-Rüc
 kingen bringt die Musik von Neil Diamond und den Beatles auf die Bühne. D
 ie Tribute-Band Beautiful Noise eröffnet den Abend mit den größten Hits
  von Neil Diamond\, gefolgt von der Beatles Revival Band. Tickets gibt es 
 im Vorverkauf und an der Abendkasse.
GEO:50.15529;8.990446
LAST-MODIFIED:20260419T160815Z
LOCATION:Historische Wasserburg Erlensee\, An der Wasserburg 1\, 63526\, E
 rlensee
STATUS:CONFIRMED
URL:https://kulvio.de/event/2834
END:VEVENT
END:VCALENDAR
