BEGIN:VCALENDAR
VERSION:2.0
PRODID:-//Kulvio Event Calendar//kulvio.de//
CALSCALE:GREGORIAN
METHOD:PUBLISH
BEGIN:VEVENT
SUMMARY:Erlenseer Sommerwiesn mit Mountain Crew
DTSTART:20260703T160000Z
DTEND:20260703T210000Z
DTSTAMP:20260421T042312Z
UID:kulvio-event-2835@kulvio.de
CATEGORIES:Konzert,Open-Air
CREATED:20260419T160523Z
DESCRIPTION:Die Erlenseer Sommerwiesn bringt bayerische Stimmung in den Li
 mespark. Die Mountain Crew\, eine Boyband aus den Alpen\, sorgt gemeinsam 
 mit den Kerscher-Musikanten für zünftige Unterhaltung unter freiem Himme
 l. Die Veranstaltung ist Teil der Erlenseer Kulturnächte 2026.
GEO:50.161971;8.985585
LAST-MODIFIED:20260420T175727Z
LOCATION:Konrad-Adenauer-Straße 23A\, 63526\, Erlensee
STATUS:CONFIRMED
URL:https://kulvio.de/event/2835
END:VEVENT
END:VCALENDAR
