BEGIN:VCALENDAR
VERSION:2.0
PRODID:-//Kulvio Event Calendar//kulvio.de//
CALSCALE:GREGORIAN
METHOD:PUBLISH
BEGIN:VEVENT
SUMMARY:The Sweet und Dave Hill's Slade im Limespark
DTSTART:20260704T170000Z
DTEND:20260704T210000Z
DTSTAMP:20260421T042429Z
UID:kulvio-event-2836@kulvio.de
CATEGORIES:Konzert,Open-Air
CREATED:20260419T160523Z
DESCRIPTION:Die Rocklegenden The Sweet und Dave Hill's Slade gastieren im 
 Limespark Erlensee. Beide Bands prägten den Glamrock der 1970er Jahre und
  bringen ihre größten Hits auf die Open-Air-Bühne. Das Konzert ist Teil
  der Erlenseer Kulturnächte 2026 und verspricht einen energiegeladenen Ab
 end für Rockfans.
GEO:50.161971;8.985585
LAST-MODIFIED:20260420T175729Z
LOCATION:Konrad-Adenauer-Straße 23A\, 63526\, Erlensee
STATUS:CONFIRMED
URL:https://kulvio.de/event/2836
END:VEVENT
END:VCALENDAR
